BEGIN:VCALENDAR
VERSION:2.0
PRODID:-//hacksw/handcal//NONSGML v1.0//EN
BEGIN:VEVENT
SUMMARY:Sejour ete. Samoens
UID:1bd18487-95bf-4cfc-ab9d-a9bb64481f33
DTSTART:20260712T050000Z
DTEND:20260719T180000Z
LOCATION:Localisation   Samoens
CATEGORIES:Stage
STATUS:
URL;VALUE=URI:https://www.velos-pictaves.fr/evenements/2026/07/12/sejour-ete-samoens-2374328
END:VEVENT
END:VCALENDAR
