BEGIN:VCALENDAR
VERSION:2.0
PRODID:-//hacksw/handcal//NONSGML v1.0//EN
BEGIN:VEVENT
SUMMARY:Pour info, Rando VTT "ROC EN SEVRE". La Tessoualle (85)
UID:d239ced0-7272-45b5-8f6d-1a52e9ad944c
DTSTART:20260705T050000Z
DTEND:20260705T110000Z
LOCATION:Localisation  85 La tessoualle
CATEGORIES:Manifestation
STATUS:
DESCRIPTION:<p>Voir <a
 href="https://www.nafix.fr/tracts/flyer-roc-en-sevre-2026-90896.html"
 target="_blank" rel="noreferrer noopener">details</a></p>
URL;VALUE=URI:https://www.velos-pictaves.fr/evenements/2026/07/05/pour-info-rando-vtt-roc-en-sevre-la-tessoualle-85-2443013
END:VEVENT
END:VCALENDAR
