BEGIN:VCALENDAR
VERSION:2.0
PRODID:-//hacksw/handcal//NONSGML v1.0//EN
BEGIN:VEVENT
SUMMARY:Rando VTT - 28eme Rando Raid de la Rose. Antran
UID:4188d8e2-9969-46d3-b350-62eaadcc2b10
DTSTART:20260607T050000Z
DTEND:20260607T103000Z
LOCATION:Localisation   Antran
CATEGORIES:Manifestation
STATUS:
DESCRIPTION:<p>Voir <a
 href="https://www.nafix.fr/tracts/flyer-28-me-rando-raid-de-la-rose-2026-88970.html"
 target="_blank" rel="noreferrer noopener">details</a></p>
URL;VALUE=URI:https://www.velos-pictaves.fr/evenements/2026/06/07/rando-vtt-28eme-rando-raid-de-la-rose-antran-2443000
END:VEVENT
END:VCALENDAR
