BEGIN:VCALENDAR
VERSION:2.0
PRODID:-//hacksw/handcal//NONSGML v1.0//EN
BEGIN:VEVENT
SUMMARY:Pour info, rando VTT "La Rando qui Claque". Nanteuil (79)
UID:88b75114-33f3-4620-9d85-dab396cd65cb
DTSTART:20260426T053000Z
DTEND:20260426T103000Z
LOCATION:Localisation   Nanteuil
CATEGORIES:Manifestation
STATUS:
DESCRIPTION:<p>Voir <a
 href="https://www.nafix.fr/tracts/flyer-la-rando-qui-claque-2026-90950.html"
 target="_blank" rel="noreferrer noopener">details</a></p>
URL;VALUE=URI:https://www.velos-pictaves.fr/evenements/2026/04/26/pour-info-rando-vtt-la-rando-qui-claque-nanteuil-79-2442996
END:VEVENT
END:VCALENDAR
