BEGIN:VCALENDAR
VERSION:2.0
PRODID:-//hacksw/handcal//NONSGML v1.0//EN
BEGIN:VEVENT
SUMMARY:Reunion planning
UID:87ee45e7-e584-4a30-b188-46df67087c34
DTSTART:20260423T160000Z
DTEND:20260423T180000Z
LOCATION:Localisation La manufacture de bieres  Poitiers
CATEGORIES:Administratif
STATUS:
URL;VALUE=URI:https://www.velos-pictaves.fr/evenements/2026/04/23/reunion-planning-2443154
END:VEVENT
END:VCALENDAR
