BEGIN:VCALENDAR
VERSION:2.0
PRODID:-//hacksw/handcal//NONSGML v1.0//EN
BEGIN:VEVENT
SUMMARY:Sortie club Marigny Brizay. Depart salle des Fetes
UID:8198a033-4765-4e2b-911d-57184f8e18e9
DTSTART:20260405T070000Z
DTEND:20260405T100000Z
LOCATION:Localisation Salle des fetes 86 Marigny Brizay
CATEGORIES:Entrainement
STATUS:
URL;VALUE=URI:https://www.velos-pictaves.fr/evenements/2026/04/05/sortie-club-marigny-brizay-depart-salle-des-fetes-2424235
END:VEVENT
END:VCALENDAR
